BEGIN:VCALENDAR
VERSION:2.0
PRODID:-//jEvents 2.0 for Joomla//EN
CALSCALE:GREGORIAN
METHOD:PUBLISH
BEGIN:VTIMEZONE
TZID:Europe/Berlin
BEGIN:STANDARD
DTSTART:20251026T020000
RDATE:20260329T030000
TZOFFSETFROM:+0200
TZOFFSETTO:+0100
TZNAME:Europe/Berlin CET
END:STANDARD
BEGIN:STANDARD
DTSTART:20261025T020000
RDATE:20270328T030000
TZOFFSETFROM:+0200
TZOFFSETTO:+0100
TZNAME:Europe/Berlin CET
END:STANDARD
BEGIN:STANDARD
DTSTART:20271031T020000
RDATE:20280326T030000
TZOFFSETFROM:+0200
TZOFFSETTO:+0100
TZNAME:Europe/Berlin CET
END:STANDARD
BEGIN:STANDARD
DTSTART:20281029T020000
RDATE:20290325T030000
TZOFFSETFROM:+0200
TZOFFSETTO:+0100
TZNAME:Europe/Berlin CET
END:STANDARD
BEGIN:STANDARD
DTSTART:20291028T020000
RDATE:20300331T030000
TZOFFSETFROM:+0200
TZOFFSETTO:+0100
TZNAME:Europe/Berlin CET
END:STANDARD
BEGIN:STANDARD
DTSTART:20301027T020000
RDATE:20310330T030000
TZOFFSETFROM:+0200
TZOFFSETTO:+0100
TZNAME:Europe/Berlin CET
END:STANDARD
BEGIN:STANDARD
DTSTART:20311026T020000
RDATE:20320328T030000
TZOFFSETFROM:+0200
TZOFFSETTO:+0100
TZNAME:Europe/Berlin CET
END:STANDARD
BEGIN:DAYLIGHT
DTSTART:20251008T000000
RDATE:20251026T020000
TZOFFSETFROM:+0100
TZOFFSETTO:+0200
TZNAME:Europe/Berlin CEST
END:DAYLIGHT
BEGIN:DAYLIGHT
DTSTART:20260329T030000
RDATE:20261025T020000
TZOFFSETFROM:+0100
TZOFFSETTO:+0200
TZNAME:Europe/Berlin CEST
END:DAYLIGHT
BEGIN:DAYLIGHT
DTSTART:20270328T030000
RDATE:20271031T020000
TZOFFSETFROM:+0100
TZOFFSETTO:+0200
TZNAME:Europe/Berlin CEST
END:DAYLIGHT
BEGIN:DAYLIGHT
DTSTART:20280326T030000
RDATE:20281029T020000
TZOFFSETFROM:+0100
TZOFFSETTO:+0200
TZNAME:Europe/Berlin CEST
END:DAYLIGHT
BEGIN:DAYLIGHT
DTSTART:20290325T030000
RDATE:20291028T020000
TZOFFSETFROM:+0100
TZOFFSETTO:+0200
TZNAME:Europe/Berlin CEST
END:DAYLIGHT
BEGIN:DAYLIGHT
DTSTART:20300331T030000
RDATE:20301027T020000
TZOFFSETFROM:+0100
TZOFFSETTO:+0200
TZNAME:Europe/Berlin CEST
END:DAYLIGHT
BEGIN:DAYLIGHT
DTSTART:20310330T030000
RDATE:20311026T020000
TZOFFSETFROM:+0100
TZOFFSETTO:+0200
TZNAME:Europe/Berlin CEST
END:DAYLIGHT
END:VTIMEZONE
BEGIN:VEVENT
UID:c616cbb468c41a2ffaf0a582a7b0be1f
CATEGORIES:Open to Book
CREATED:20251231T094847
SUMMARY:Flavors of Tuscany
DESCRIPTION:<p class="uk-h1 uk-width-xlarge uk-margin-auto uk-text-center uk-scrollspy-
 inview">When you think of Tuscany...</p><div class="uk-panel uk-margin uk-t
 ext-left@m uk-text-center" data-id="page#1-0-1-1" data-element=""><p>Tuscan
 y is one of the most attractive regions in the world, known for its beautif
 ul landscapes and rich artistic heritage. As the birthplace of the Renaissa
 nce, art remains an important part of the region, influencing architecture,
  fashion, design, and cuisine. Come and see how Tuscany can inspire you!</p
 ></div><p><a href="index.php/destinations/flavours-of-tuscany">FLAVORS OF T
 USCANY - TOUR INFORMATION</a></p>
X-ALT-DESC;FMTTYPE=text/html:<p class="uk-h1 uk-width-xlarge uk-margin-auto uk-text-center uk-scrollspy-
 inview">When you think of Tuscany...</p><div class="uk-panel uk-margin uk-t
 ext-left@m uk-text-center" data-id="page#1-0-1-1" data-element=""><p>Tuscan
 y is one of the most attractive regions in the world, known for its beautif
 ul landscapes and rich artistic heritage. As the birthplace of the Renaissa
 nce, art remains an important part of the region, influencing architecture,
  fashion, design, and cuisine. Come and see how Tuscany can inspire you!</p
 ></div><p><a href="https://horizon-tours.net/index.php/destinations/flavour
 s-of-tuscany">FLAVORS OF TUSCANY - TOUR INFORMATION</a></p>
DTSTAMP:20260421T184832
DTSTART;TZID=Europe/Berlin;VALUE=DATE:20261009
DTEND;TZID=Europe/Berlin;VALUE=DATE:20261013
SEQUENCE:0
TRANSP:OPAQUE
END:VEVENT
END:VCALENDAR