BEGIN:VCALENDAR
VERSION:2.0
PRODID:-//jEvents 2.0 for Joomla//EN
CALSCALE:GREGORIAN
METHOD:PUBLISH
BEGIN:VTIMEZONE
TZID:Europe/Berlin
BEGIN:STANDARD
DTSTART:20251026T020000
RDATE:20260329T030000
TZOFFSETFROM:+0200
TZOFFSETTO:+0100
TZNAME:Europe/Berlin CET
END:STANDARD
BEGIN:STANDARD
DTSTART:20261025T020000
RDATE:20270328T030000
TZOFFSETFROM:+0200
TZOFFSETTO:+0100
TZNAME:Europe/Berlin CET
END:STANDARD
BEGIN:STANDARD
DTSTART:20271031T020000
RDATE:20280326T030000
TZOFFSETFROM:+0200
TZOFFSETTO:+0100
TZNAME:Europe/Berlin CET
END:STANDARD
BEGIN:STANDARD
DTSTART:20281029T020000
RDATE:20290325T030000
TZOFFSETFROM:+0200
TZOFFSETTO:+0100
TZNAME:Europe/Berlin CET
END:STANDARD
BEGIN:STANDARD
DTSTART:20291028T020000
RDATE:20300331T030000
TZOFFSETFROM:+0200
TZOFFSETTO:+0100
TZNAME:Europe/Berlin CET
END:STANDARD
BEGIN:STANDARD
DTSTART:20301027T020000
RDATE:20310330T030000
TZOFFSETFROM:+0200
TZOFFSETTO:+0100
TZNAME:Europe/Berlin CET
END:STANDARD
BEGIN:STANDARD
DTSTART:20311026T020000
RDATE:20320328T030000
TZOFFSETFROM:+0200
TZOFFSETTO:+0100
TZNAME:Europe/Berlin CET
END:STANDARD
BEGIN:DAYLIGHT
DTSTART:20250912T000000
RDATE:20251026T020000
TZOFFSETFROM:+0100
TZOFFSETTO:+0200
TZNAME:Europe/Berlin CEST
END:DAYLIGHT
BEGIN:DAYLIGHT
DTSTART:20260329T030000
RDATE:20261025T020000
TZOFFSETFROM:+0100
TZOFFSETTO:+0200
TZNAME:Europe/Berlin CEST
END:DAYLIGHT
BEGIN:DAYLIGHT
DTSTART:20270328T030000
RDATE:20271031T020000
TZOFFSETFROM:+0100
TZOFFSETTO:+0200
TZNAME:Europe/Berlin CEST
END:DAYLIGHT
BEGIN:DAYLIGHT
DTSTART:20280326T030000
RDATE:20281029T020000
TZOFFSETFROM:+0100
TZOFFSETTO:+0200
TZNAME:Europe/Berlin CEST
END:DAYLIGHT
BEGIN:DAYLIGHT
DTSTART:20290325T030000
RDATE:20291028T020000
TZOFFSETFROM:+0100
TZOFFSETTO:+0200
TZNAME:Europe/Berlin CEST
END:DAYLIGHT
BEGIN:DAYLIGHT
DTSTART:20300331T030000
RDATE:20301027T020000
TZOFFSETFROM:+0100
TZOFFSETTO:+0200
TZNAME:Europe/Berlin CEST
END:DAYLIGHT
BEGIN:DAYLIGHT
DTSTART:20310330T030000
RDATE:20311026T020000
TZOFFSETFROM:+0100
TZOFFSETTO:+0200
TZNAME:Europe/Berlin CEST
END:DAYLIGHT
END:VTIMEZONE
BEGIN:VEVENT
UID:b0ac663fde883a872a85802ddcf0db77
CATEGORIES:Open to Book
CREATED:20251231T095157
SUMMARY:Italy Classic
DESCRIPTION:<p class="uk-h1 uk-width-xlarge uk-margin-auto uk-text-center uk-scrollspy-
 inview">The Best of Italy...</p><div class="uk-panel uk-margin uk-text-left
 @m uk-text-center" data-id="page#1-0-1-1" data-element=""><p>A compelling t
 our to the cultural treasures of Italy. Sun-drenched Sorrento and Pompeii i
 n the south, Lake Garda and Pisa in Italy's north; then Venice &amp; Floren
 ce, Rome and the Vatican.....it's all in 6 unforgettable days!</p></div><p>
 <a href="index.php/component/content/article/76-italy-classic?catid=2">ITAL
 Y CLASSIC - TOUR INFORMATION</a></p>
X-ALT-DESC;FMTTYPE=text/html:<p class="uk-h1 uk-width-xlarge uk-margin-auto uk-text-center uk-scrollspy-
 inview">The Best of Italy...</p><div class="uk-panel uk-margin uk-text-left
 @m uk-text-center" data-id="page#1-0-1-1" data-element=""><p>A compelling t
 our to the cultural treasures of Italy. Sun-drenched Sorrento and Pompeii i
 n the south, Lake Garda and Pisa in Italy's north; then Venice &amp; Floren
 ce, Rome and the Vatican.....it's all in 6 unforgettable days!</p></div><p>
 <a href="https://horizon-tours.net/index.php/component/content/article/76-i
 taly-classic?catid=2">ITALY CLASSIC - TOUR INFORMATION</a></p>
DTSTAMP:20260421T184826
DTSTART;TZID=Europe/Berlin;VALUE=DATE:20260913
DTEND;TZID=Europe/Berlin;VALUE=DATE:20260919
SEQUENCE:0
TRANSP:OPAQUE
END:VEVENT
END:VCALENDAR