BEGIN:VCALENDAR
VERSION:2.0
PRODID:-//jEvents 2.0 for Joomla//EN
CALSCALE:GREGORIAN
METHOD:PUBLISH
BEGIN:VTIMEZONE
TZID:Europe/Berlin
BEGIN:STANDARD
DTSTART:20250212T000000
RDATE:20250330T030000
TZOFFSETFROM:+0200
TZOFFSETTO:+0100
TZNAME:Europe/Berlin CET
END:STANDARD
BEGIN:STANDARD
DTSTART:20251026T020000
RDATE:20260329T030000
TZOFFSETFROM:+0200
TZOFFSETTO:+0100
TZNAME:Europe/Berlin CET
END:STANDARD
BEGIN:STANDARD
DTSTART:20261025T020000
RDATE:20270328T030000
TZOFFSETFROM:+0200
TZOFFSETTO:+0100
TZNAME:Europe/Berlin CET
END:STANDARD
BEGIN:STANDARD
DTSTART:20271031T020000
RDATE:20280326T030000
TZOFFSETFROM:+0200
TZOFFSETTO:+0100
TZNAME:Europe/Berlin CET
END:STANDARD
BEGIN:STANDARD
DTSTART:20281029T020000
RDATE:20290325T030000
TZOFFSETFROM:+0200
TZOFFSETTO:+0100
TZNAME:Europe/Berlin CET
END:STANDARD
BEGIN:STANDARD
DTSTART:20291028T020000
RDATE:20300331T030000
TZOFFSETFROM:+0200
TZOFFSETTO:+0100
TZNAME:Europe/Berlin CET
END:STANDARD
BEGIN:STANDARD
DTSTART:20301027T020000
RDATE:20310330T030000
TZOFFSETFROM:+0200
TZOFFSETTO:+0100
TZNAME:Europe/Berlin CET
END:STANDARD
BEGIN:STANDARD
DTSTART:20311026T020000
RDATE:20320328T030000
TZOFFSETFROM:+0200
TZOFFSETTO:+0100
TZNAME:Europe/Berlin CET
END:STANDARD
BEGIN:DAYLIGHT
DTSTART:20250330T030000
RDATE:20251026T020000
TZOFFSETFROM:+0100
TZOFFSETTO:+0200
TZNAME:Europe/Berlin CEST
END:DAYLIGHT
BEGIN:DAYLIGHT
DTSTART:20260329T030000
RDATE:20261025T020000
TZOFFSETFROM:+0100
TZOFFSETTO:+0200
TZNAME:Europe/Berlin CEST
END:DAYLIGHT
BEGIN:DAYLIGHT
DTSTART:20270328T030000
RDATE:20271031T020000
TZOFFSETFROM:+0100
TZOFFSETTO:+0200
TZNAME:Europe/Berlin CEST
END:DAYLIGHT
BEGIN:DAYLIGHT
DTSTART:20280326T030000
RDATE:20281029T020000
TZOFFSETFROM:+0100
TZOFFSETTO:+0200
TZNAME:Europe/Berlin CEST
END:DAYLIGHT
BEGIN:DAYLIGHT
DTSTART:20290325T030000
RDATE:20291028T020000
TZOFFSETFROM:+0100
TZOFFSETTO:+0200
TZNAME:Europe/Berlin CEST
END:DAYLIGHT
BEGIN:DAYLIGHT
DTSTART:20300331T030000
RDATE:20301027T020000
TZOFFSETFROM:+0100
TZOFFSETTO:+0200
TZNAME:Europe/Berlin CEST
END:DAYLIGHT
BEGIN:DAYLIGHT
DTSTART:20310330T030000
RDATE:20311026T020000
TZOFFSETFROM:+0100
TZOFFSETTO:+0200
TZNAME:Europe/Berlin CEST
END:DAYLIGHT
END:VTIMEZONE
BEGIN:VEVENT
UID:df3e041c46f636634d7bc2ca9a412ac4
CATEGORIES:Open to Book
CREATED:20250803T085657
SUMMARY:Flavors of Tuscany
DESCRIPTION:When you think of Tuscany...\nTuscany is one of the most attractive regions
  in the world, known for its beautiful landscapes and rich artistic heritag
 e. As the birthplace of the Renaissance, art remains an important part of t
 he region, influencing architecture, fashion, design, and cuisine. Come and
  see how Tuscany can inspire you!\nFLAVORS OF TUSCANY - TOUR INFORMATION (i
 ndex.php/destinations/flavours-of-tuscany)\n
X-ALT-DESC;FMTTYPE=text/html:<p class="uk-h1 uk-width-xlarge uk-margin-auto uk-text-center uk-scrollspy-
 inview">When you think of Tuscany...</p><div class="uk-panel uk-margin uk-t
 ext-left@m uk-text-center" data-id="page#1-0-1-1" data-element=""><p>Tuscan
 y is one of the most attractive regions in the world, known for its beautif
 ul landscapes and rich artistic heritage. As the birthplace of the Renaissa
 nce, art remains an important part of the region, influencing architecture,
  fashion, design, and cuisine. Come and see how Tuscany can inspire you!</p
 ></div><p><a href="https://horizon-tours.net/index.php/destinations/flavour
 s-of-tuscany">FLAVORS OF TUSCANY - TOUR INFORMATION</a></p>
DTSTAMP:20260422T000517
DTSTART;TZID=Europe/Berlin;VALUE=DATE:20260213
DTEND;TZID=Europe/Berlin;VALUE=DATE:20260217
SEQUENCE:0
TRANSP:OPAQUE
END:VEVENT
END:VCALENDAR