BEGIN:VCALENDAR
VERSION:2.0
PRODID:-//jEvents 2.0 for Joomla//EN
CALSCALE:GREGORIAN
METHOD:PUBLISH
BEGIN:VTIMEZONE
TZID:Europe/Berlin
BEGIN:STANDARD
DTSTART:20251114T000000
RDATE:20260329T030000
TZOFFSETFROM:+0200
TZOFFSETTO:+0100
TZNAME:Europe/Berlin CET
END:STANDARD
BEGIN:STANDARD
DTSTART:20261025T020000
RDATE:20270328T030000
TZOFFSETFROM:+0200
TZOFFSETTO:+0100
TZNAME:Europe/Berlin CET
END:STANDARD
BEGIN:STANDARD
DTSTART:20271031T020000
RDATE:20280326T030000
TZOFFSETFROM:+0200
TZOFFSETTO:+0100
TZNAME:Europe/Berlin CET
END:STANDARD
BEGIN:STANDARD
DTSTART:20281029T020000
RDATE:20290325T030000
TZOFFSETFROM:+0200
TZOFFSETTO:+0100
TZNAME:Europe/Berlin CET
END:STANDARD
BEGIN:STANDARD
DTSTART:20291028T020000
RDATE:20300331T030000
TZOFFSETFROM:+0200
TZOFFSETTO:+0100
TZNAME:Europe/Berlin CET
END:STANDARD
BEGIN:STANDARD
DTSTART:20301027T020000
RDATE:20310330T030000
TZOFFSETFROM:+0200
TZOFFSETTO:+0100
TZNAME:Europe/Berlin CET
END:STANDARD
BEGIN:STANDARD
DTSTART:20311026T020000
RDATE:20320328T030000
TZOFFSETFROM:+0200
TZOFFSETTO:+0100
TZNAME:Europe/Berlin CET
END:STANDARD
BEGIN:DAYLIGHT
DTSTART:20260329T030000
RDATE:20261025T020000
TZOFFSETFROM:+0100
TZOFFSETTO:+0200
TZNAME:Europe/Berlin CEST
END:DAYLIGHT
BEGIN:DAYLIGHT
DTSTART:20270328T030000
RDATE:20271031T020000
TZOFFSETFROM:+0100
TZOFFSETTO:+0200
TZNAME:Europe/Berlin CEST
END:DAYLIGHT
BEGIN:DAYLIGHT
DTSTART:20280326T030000
RDATE:20281029T020000
TZOFFSETFROM:+0100
TZOFFSETTO:+0200
TZNAME:Europe/Berlin CEST
END:DAYLIGHT
BEGIN:DAYLIGHT
DTSTART:20290325T030000
RDATE:20291028T020000
TZOFFSETFROM:+0100
TZOFFSETTO:+0200
TZNAME:Europe/Berlin CEST
END:DAYLIGHT
BEGIN:DAYLIGHT
DTSTART:20300331T030000
RDATE:20301027T020000
TZOFFSETFROM:+0100
TZOFFSETTO:+0200
TZNAME:Europe/Berlin CEST
END:DAYLIGHT
BEGIN:DAYLIGHT
DTSTART:20310330T030000
RDATE:20311026T020000
TZOFFSETFROM:+0100
TZOFFSETTO:+0200
TZNAME:Europe/Berlin CEST
END:DAYLIGHT
END:VTIMEZONE
BEGIN:VEVENT
UID:f053f52f5afc3fde0411963a95756091
CATEGORIES:Open to Book
CREATED:20251231T103528
SUMMARY:Paris Express
DESCRIPTION:<p>If you only have one day for Paris...</p><div class="uk-panel uk-margin 
 uk-text-left@m uk-text-center"><p>Today, immerse yourself in the essentials
 : The grandeur of Notre Dame, a drive along the Champs-Elisees, a circuit a
 round the Arc the Triomphe, and a breathtaking view of the Eiffel Tower. </
 p><p>If you are tight on time, this whirlwind tour is the perfect way to se
 e Paris in just one day. This trip is ideal for folks who want a hassle-fre
 e introduction to the city at a great price! We’ll see the highlights of Pa
 ris and have free time to revisit a favorite Parisian attraction.</p></div>
 <p><a href="index.php/destinations/paris-express">PARIS EXPRESS - TOUR INFO
 RMATION</a></p>
X-ALT-DESC;FMTTYPE=text/html:<p>If you only have one day for Paris...</p><div class="uk-panel uk-margin 
 uk-text-left@m uk-text-center"><p>Today, immerse yourself in the essentials
 : The grandeur of Notre Dame, a drive along the Champs-Elisees, a circuit a
 round the Arc the Triomphe, and a breathtaking view of the Eiffel Tower. </
 p><p>If you are tight on time, this whirlwind tour is the perfect way to se
 e Paris in just one day. This trip is ideal for folks who want a hassle-fre
 e introduction to the city at a great price! We’ll see the highlights of Pa
 ris and have free time to revisit a favorite Parisian attraction.</p></div>
 <p><a href="https://horizon-tours.net/index.php/destinations/paris-express"
 >PARIS EXPRESS - TOUR INFORMATION</a></p>
DTSTAMP:20260421T184703
DTSTART;TZID=Europe/Berlin;VALUE=DATE:20261115
DTEND;TZID=Europe/Berlin;VALUE=DATE:20261116
SEQUENCE:0
TRANSP:OPAQUE
END:VEVENT
END:VCALENDAR